BEGIN:VCALENDAR
VERSION:2.0
PRODID:-//Ziber2013/
CALSCALE:GREGORIAN
BEGIN:VEVENT
UID:237968@https://www.dekrullevaar.eu
DTSTART:20260701T000000
DTEND:20260701T235959
SUMMARY:Studiedag leraren, kinderen vrij
DESCRIPTION:
LOCATION:RK Basisschool De Krullevaar\, Doelenplein 26\, 2871 CV Schoonhoven
X-MICROSOFT-CDO-ALLDAYEVENT:TRUE
ATTACH;FMTTYPE=image/jpeg:/content/33255/agenda/clnt/237968_org.jpg?width=1600&height=1200
SEQUENCE:0
DTSTAMP:20260425T132556
END:VEVENT
END:VCALENDAR
