BEGIN:VCALENDAR
VERSION:2.0
PRODID:-//Ziber2013/
CALSCALE:GREGORIAN
BEGIN:VEVENT
UID:237944@https://www.dekrullevaar.eu
DTSTART:20260710T170000
DTEND:20260710T203000
SUMMARY:Pleinparty 
DESCRIPTION:
LOCATION:RK Basisschool De Krullevaar\, Doelenplein 26\, 2871 CV Schoonhoven
ATTACH;FMTTYPE=image/jpeg:/content/33255/agenda/clnt/008607e2578d444db276d277d7e5c7c2.jpeg?width=1600&height=1200
SEQUENCE:0
DTSTAMP:20260425T132734
END:VEVENT
END:VCALENDAR
