BEGIN:VCALENDAR
VERSION:2.0
PRODID:-//Ziber2013/
CALSCALE:GREGORIAN
BEGIN:VEVENT
UID:237915@https://www.dekrullevaar.eu
DTSTART:20260619T130000
DTEND:20260619T143000
SUMMARY:Crea middag
DESCRIPTION:
LOCATION:RK Basisschool De Krullevaar\, Doelenplein 26\, 2871 CV Schoonhoven
ATTACH;FMTTYPE=image/jpeg:/content/33255/agenda/clnt/237915_org.jpg?width=1600&height=1200
SEQUENCE:0
DTSTAMP:20260425T131946
END:VEVENT
END:VCALENDAR
